BEGIN:VCALENDAR
VERSION:2.0
PRODID:-//Natuur- en Milieuvereniging gemeente Heusden - ECPv6.15.20//NONSGML v1.0//EN
CALSCALE:GREGORIAN
METHOD:PUBLISH
X-ORIGINAL-URL:https://natuurenmilieuheusden.nl
X-WR-CALDESC:Evenementen voor Natuur- en Milieuvereniging gemeente Heusden
REFRESH-INTERVAL;VALUE=DURATION:PT1H
X-Robots-Tag:noindex
X-PUBLISHED-TTL:PT1H
BEGIN:VTIMEZONE
TZID:Europe/Paris
BEGIN:DAYLIGHT
TZOFFSETFROM:+0100
TZOFFSETTO:+0200
TZNAME:CEST
DTSTART:20250330T010000
END:DAYLIGHT
BEGIN:STANDARD
TZOFFSETFROM:+0200
TZOFFSETTO:+0100
TZNAME:CET
DTSTART:20251026T010000
END:STANDARD
BEGIN:DAYLIGHT
TZOFFSETFROM:+0100
TZOFFSETTO:+0200
TZNAME:CEST
DTSTART:20260329T010000
END:DAYLIGHT
BEGIN:STANDARD
TZOFFSETFROM:+0200
TZOFFSETTO:+0100
TZNAME:CET
DTSTART:20261025T010000
END:STANDARD
BEGIN:DAYLIGHT
TZOFFSETFROM:+0100
TZOFFSETTO:+0200
TZNAME:CEST
DTSTART:20270328T010000
END:DAYLIGHT
BEGIN:STANDARD
TZOFFSETFROM:+0200
TZOFFSETTO:+0100
TZNAME:CET
DTSTART:20271031T010000
END:STANDARD
END:VTIMEZONE
BEGIN:VEVENT
DTSTART;TZID=Europe/Paris:20260420T193000
DTEND;TZID=Europe/Paris:20260420T220000
DTSTAMP:20260422T022827
CREATED:20260310T160013Z
LAST-MODIFIED:20260310T160145Z
UID:1324-1776713400-1776722400@natuurenmilieuheusden.nl
SUMMARY:Lezing Paul Kreyger over VLINDERS IN DE REGIO
DESCRIPTION:Binnenlopen vanaf 19.30 uur. Aanvang lezingen 20.00 uur\nAdres De Mand/Caleidoscoop Jan Steenstraat 2\, 5251 NG Vlijmen\nVoor vragen en/of opmerkingen: Lezingen@natuurenmilieuheusden.nl
URL:https://natuurenmilieuheusden.nl/event/lezing-paul-kreyger-over-vlinders-in-de-regio/
LOCATION:De Mand/Caleidoscoop\, Jan Steenstraat 2\, Vlijmen\, Noord Brabant\, 5251 NG
END:VEVENT
BEGIN:VEVENT
DTSTART;TZID=Europe/Paris:20260420T193000
DTEND;TZID=Europe/Paris:20260420T220000
DTSTAMP:20260422T022827
CREATED:20260310T155920Z
LAST-MODIFIED:20260310T160212Z
UID:1322-1776713400-1776722400@natuurenmilieuheusden.nl
SUMMARY:Lezing Nico Ghamoor over OOIEVAARS
DESCRIPTION:Binnenlopen vanaf 19.30 uur. Aanvang lezingen 20.00 uur\nAdres De Mand/Caleidoscoop Jan Steenstraat 2\, 5251 NG Vlijmen\nVoor vragen en/of opmerkingen: Lezingen@natuurenmilieuheusden.nl
URL:https://natuurenmilieuheusden.nl/event/lezing-nico-ghamoor-over-ooievaars/
LOCATION:De Mand/Caleidoscoop\, Jan Steenstraat 2\, Vlijmen\, Noord Brabant\, 5251 NG
END:VEVENT
BEGIN:VEVENT
DTSTART;VALUE=DATE:20260412
DTEND;VALUE=DATE:20260414
DTSTAMP:20260422T022828
CREATED:20260202T190221Z
LAST-MODIFIED:20260202T190221Z
UID:643-1775955600-1776041999@natuurenmilieuheusden.nl
SUMMARY:Lang leven de lente. - Jeugd Educatie
DESCRIPTION:Dit is een activiteit van De Natuurrakkers. \nDeelnemers: maximaal 15 kinderen tussen de leeftijd van 8-12 jaar.\nVoor kinderen van leden gratis. Voor kinderen van niet-leden 3 Euro per activiteit te voldoen bij binnenkomst. \nHOE DOE JE MEE?\nAanmelden vanaf 2 weken VOOR de activiteit per mail met aanmeldenjeugd@natuurenmilieuheusden.nl\nDetails per activiteit krijgen de deelnemers via mail NA (VERPLICHTE) INSCHRIJVING. \nZie voor meer informatie: De Natuurrakkers \nHEB JE VRAGEN OF OPMERKINGEN?\nMail naar natuurrakkers@natuurenmilieuheusden.nl
URL:https://natuurenmilieuheusden.nl/event/lang-leven-de-lente-jeugd-educatie/
END:VEVENT
BEGIN:VEVENT
DTSTART;TZID=Europe/Paris:20260411T100000
DTEND;TZID=Europe/Paris:20260411T113000
DTSTAMP:20260422T022828
CREATED:20260325T165501Z
LAST-MODIFIED:20260325T165501Z
UID:1888-1775901600-1775907000@natuurenmilieuheusden.nl
SUMMARY:Planten Ruilbeurs Vliedberg Vlijmen
DESCRIPTION:Voor alle plantenliefhebbers\, moestuin–fanatiekelingen\, tuin–verbouwers en  bloemen–verzamelaars\, Zegt het voort\, zegt het voort.  \n\nEr wordt een plantenbeurs georganiseerd voor de Caleidoscoop in Vlijmen.  \nDus heb je planten over om weg te geven\, wil je ruilen\, kopen of verkopen. Maximaal € 2\,- per plant\, om het leuk te houden voor de kopers.\nAlleen contante betalingen.  Of ben je op zoek naar nieuwe (soorten) planten\, kom gerust even langs! \nLet op\, de markt duurt maar 1\,5 uur! \nEr zijn geen kramen\, maar neem gerust een kleedje of tafeltje mee als je iets aan te bieden heb \n\n 
URL:https://natuurenmilieuheusden.nl/event/planten-ruilbeurs-vliedberg-vlijmen/
LOCATION:De Mand/Caleidoscoop\, Jan Steenstraat 2\, Vlijmen\, Noord Brabant\, 5251 NG
END:VEVENT
BEGIN:VEVENT
DTSTART;TZID=Europe/Paris:20260408T190000
DTEND;TZID=Europe/Paris:20260408T210000
DTSTAMP:20260422T022828
CREATED:20260310T162157Z
LAST-MODIFIED:20260310T162237Z
UID:1340-1775674800-1775682000@natuurenmilieuheusden.nl
SUMMARY:Repair Cafe
DESCRIPTION:Waarmee kun je terecht?\nMet al je draagbare kapotte spullen.\nZoals elektrische apparaten\, kleding en textiel\, fietsen\, houten speelgoed\,rollators en noem maar op.\nDe reparaties zijn gratis\, maar een contante financiële bijdrage voor de onkosten\nwordt op prijs gesteld. Onderdelen voor vervanging zelf meebrengen en deze zijn voor eigen rekening.\nIedereen is van harte welkom! \nLocatie: Buurthuis de Stulp\, Admiraalsweg 100 in Drunen\nTijd: 19.00 tot 21.00 uur (inloop tot 20.30 uur)\nVoor meer informatie: repair-cafe@natuurenmilieuheusden.nl
URL:https://natuurenmilieuheusden.nl/event/repair-cafe/
LOCATION:Buurthuis de Stulp\, Admiraalsweg 100\, Drunen
END:VEVENT
BEGIN:VEVENT
DTSTART;TZID=Europe/Paris:20260331T190000
DTEND;TZID=Europe/Paris:20260331T213000
DTSTAMP:20260422T022828
CREATED:20260311T162118Z
LAST-MODIFIED:20260311T162118Z
UID:1351-1774983600-1774992600@natuurenmilieuheusden.nl
SUMMARY:Lezing 2/3 Piet de Jongh over de Duinen: De cultuurhistorie van de Duinen en omgeving
DESCRIPTION:Adres D‘n Elshof\, Theodorus Rijkenstraat 10A\, 5154 AK Elshout.\nBinnenlopen vanaf 19.00 uur. Aanvang lezingen 19.30 uur \nDe drie lezingen zijn mede gebaseerd op de glossy ‘Stuivend zand is meer dan stuifzand’. Het is daarom handig deze glossy zelf mee te nemen.\nDe Glossy is nog te bestellen. \nVoor vragen en/of opmerkingen: communicatie@natuurenmilieuheusden.nl\nDeelname aan alle lezingen is gratis.
URL:https://natuurenmilieuheusden.nl/event/lezing-2-3-piet-de-jongh-over-de-duinen-de-cultuurhistorie-van-de-duinen-en-omgeving/
LOCATION:D’n Elshof\, Theodore Rijkenstraat 10A\, Elshout\, 5151 AK
END:VEVENT
BEGIN:VEVENT
DTSTART;TZID=Europe/Paris:20260316T193000
DTEND;TZID=Europe/Paris:20260316T220000
DTSTAMP:20260422T022828
CREATED:20260310T154836Z
LAST-MODIFIED:20260310T160246Z
UID:1313-1773689400-1773698400@natuurenmilieuheusden.nl
SUMMARY:Lezing Wiet van de Bracht alles over de BEVERS in Nederland
DESCRIPTION:Binnenlopen vanaf 19.30 uur. Aanvang lezingen 20.00 uur\nAdres De Mand/Caleidoscoop Jan Steenstraat 2\, 5251 NG Vlijmen\nVoor vragen en/of opmerkingen: Lezingen@natuurenmilieuheusden.nl
URL:https://natuurenmilieuheusden.nl/event/lezing-wiet-van-de-bracht-alles-over-de-bevers-in-nederland/
LOCATION:De Mand/Caleidoscoop\, Jan Steenstraat 2\, Vlijmen\, Noord Brabant\, 5251 NG
END:VEVENT
BEGIN:VEVENT
DTSTART;VALUE=DATE:20260308
DTEND;VALUE=DATE:20260310
DTSTAMP:20260422T022828
CREATED:20260202T190259Z
LAST-MODIFIED:20260202T190259Z
UID:645-1772931600-1773017999@natuurenmilieuheusden.nl
SUMMARY:Ben jij een spoorzoeker? Welke duinbewoners vinden wij samen? - Jeugd Educatie
DESCRIPTION:Dit is een activiteit van De Natuurrakkers. \nDeelnemers: maximaal 15 kinderen tussen de leeftijd van 8-12 jaar.\nVoor kinderen van leden gratis. Voor kinderen van niet-leden 3 Euro per activiteit te voldoen bij binnenkomst. \nHOE DOE JE MEE?\nAanmelden vanaf 2 weken VOOR de activiteit per mail met aanmeldenjeugd@natuurenmilieuheusden.nl\nDetails per activiteit krijgen de deelnemers via mail NA (VERPLICHTE) INSCHRIJVING. \nZie voor meer informatie: De Natuurrakkers \nHEB JE VRAGEN OF OPMERKINGEN?\nMail naar natuurrakkers@natuurenmilieuheusden.nl
URL:https://natuurenmilieuheusden.nl/event/ben-jij-een-spoorzoeker-welke-duinbewoners-vinden-wij-samen-jeugd-educatie/
END:VEVENT
BEGIN:VEVENT
DTSTART;VALUE=DATE:20260208
DTEND;VALUE=DATE:20260210
DTSTAMP:20260422T022828
CREATED:20260202T190340Z
LAST-MODIFIED:20260202T190340Z
UID:647-1770512400-1770598799@natuurenmilieuheusden.nl
SUMMARY:We helpen de boswachter. - Jeugd Educatie
DESCRIPTION:Dit is een activiteit van De Natuurrakkers. \nDeelnemers: maximaal 15 kinderen tussen de leeftijd van 8-12 jaar.\nVoor kinderen van leden gratis. Voor kinderen van niet-leden 3 Euro per activiteit te voldoen bij binnenkomst. \nHOE DOE JE MEE?\nAanmelden vanaf 2 weken VOOR de activiteit per mail met aanmeldenjeugd@natuurenmilieuheusden.nl\nDetails per activiteit krijgen de deelnemers via mail NA (VERPLICHTE) INSCHRIJVING. \nZie voor meer informatie: De Natuurrakkers \nHEB JE VRAGEN OF OPMERKINGEN?\nMail naar natuurrakkers@natuurenmilieuheusden.nl
URL:https://natuurenmilieuheusden.nl/event/we-helpen-de-boswachter-jeugd-educatie/
END:VEVENT
END:VCALENDAR